BEGIN:VCALENDAR
VERSION:2.0
PRODID:-//ddaysoftware.com//NONSGML DDay.iCal 1.0//EN
BEGIN:VEVENT
DESCRIPTION:RATIONAL AG Finanzzahlen Halbjahr 2020\n\n (https://www.finanzn
 achrichten.de)
DTEND;VALUE=DATE:20200731
DTSTAMP:20260420T055146Z
DTSTART;VALUE=DATE:20200730
LOCATION:
SEQUENCE:0
SUMMARY:RATIONAL AG Finanzzahlen Halbjahr 2020
UID:cca11432-5c2b-462b-8294-d657bbb4f427
END:VEVENT
END:VCALENDAR
