BEGIN:VCALENDAR
VERSION:2.0
PRODID:-//ddaysoftware.com//NONSGML DDay.iCal 1.0//EN
BEGIN:VEVENT
DESCRIPTION:BASLER AG Veröffentlichung Halbjahresfinanzbericht\n\n (https:/
 /www.finanznachrichten.de)
DTEND;VALUE=DATE:20250808
DTSTAMP:20260420T105501Z
DTSTART;VALUE=DATE:20250807
LOCATION:
SEQUENCE:0
SUMMARY:BASLER AG Veröffentlichung Halbjahresfinanzbericht
UID:db26af9a-a78c-4736-aa4a-fd167df49c1c
END:VEVENT
END:VCALENDAR
