BEGIN:VCALENDAR
VERSION:2.0
PRODID:-//ddaysoftware.com//NONSGML DDay.iCal 1.0//EN
BEGIN:VEVENT
DESCRIPTION:BASLER AG Veröffentlichung Jahresfinanzbericht\n\n (https://www
 .finanznachrichten.de)
DTEND;VALUE=DATE:20260401
DTSTAMP:20260420T105501Z
DTSTART;VALUE=DATE:20260331
LOCATION:
SEQUENCE:0
SUMMARY:BASLER AG Veröffentlichung Jahresfinanzbericht
UID:183e83fe-5a46-4bbc-959d-937ea4548687
END:VEVENT
END:VCALENDAR
