BEGIN:VCALENDAR
VERSION:2.0
PRODID:-//ddaysoftware.com//NONSGML DDay.iCal 1.0//EN
BEGIN:VEVENT
DESCRIPTION:SUSS MICROTEC SE Veröffentlichung Jahresfinanzbericht\n\n (http
 s://www.finanznachrichten.de)
DTEND;VALUE=DATE:20260331
DTSTAMP:20260422T233125Z
DTSTART;VALUE=DATE:20260330
LOCATION:
SEQUENCE:0
SUMMARY:SUSS MICROTEC SE Veröffentlichung Jahresfinanzbericht
UID:042ef3f5-e2ff-40ae-8834-db0de8eb55eb
END:VEVENT
END:VCALENDAR
