BEGIN:VCALENDAR
VERSION:2.0
PRODID:-//ddaysoftware.com//NONSGML DDay.iCal 1.0//EN
BEGIN:VEVENT
DESCRIPTION:KION GROUP AG Veröffentlichung Quartalsfinanzbericht (Stichtag 
 Q1)\n\n (https://www.finanznachrichten.de)
DTEND;VALUE=DATE:20250501
DTSTAMP:20260420T181421Z
DTSTART;VALUE=DATE:20250430
LOCATION:
SEQUENCE:0
SUMMARY:KION GROUP AG Veröffentlichung Quartalsfinanzbericht (Stichtag Q1)
UID:5ce2c671-69de-4276-ae97-f3ca6cb6dd95
END:VEVENT
END:VCALENDAR
