BEGIN:VCALENDAR
VERSION:2.0
PRODID:-//ddaysoftware.com//NONSGML DDay.iCal 1.0//EN
BEGIN:VEVENT
DESCRIPTION:SUSS MICROTEC SE Hauptversammlung\n\n (https://www.finanznachri
 chten.de)
DTEND;VALUE=DATE:20250604
DTSTAMP:20260422T233125Z
DTSTART;VALUE=DATE:20250603
LOCATION:
SEQUENCE:0
SUMMARY:SUSS MICROTEC SE Hauptversammlung
UID:7b242ecb-40b4-400e-b8fe-cf31bf8a5c15
END:VEVENT
END:VCALENDAR
