BEGIN:VCALENDAR
VERSION:2.0
PRODID:-//ddaysoftware.com//NONSGML DDay.iCal 1.0//EN
BEGIN:VEVENT
DESCRIPTION:DEUTSCHE BOERSE AG Analysten- und Investorenkonferenz Q4 und Ge
 samtjahr 2025\n\n (https://www.finanznachrichten.de)
DTEND;VALUE=DATE:20260213
DTSTAMP:20260423T155103Z
DTSTART;VALUE=DATE:20260212
LOCATION:
SEQUENCE:0
SUMMARY:DEUTSCHE BOERSE AG Analysten- und Investorenkonferenz Q4 und Gesamt
 jahr 2025
UID:d2d848a8-3b93-44dc-9725-3e71c5724b21
END:VEVENT
END:VCALENDAR
