BEGIN:VCALENDAR
VERSION:2.0
PRODID:-//ddaysoftware.com//NONSGML DDay.iCal 1.0//EN
BEGIN:VEVENT
DESCRIPTION:HAWESKO HOLDING SE Veröffentlichung Jahresfinanzbericht\n\n (ht
 tps://www.finanznachrichten.de)
DTEND;VALUE=DATE:20250425
DTSTAMP:20260422T002020Z
DTSTART;VALUE=DATE:20250424
LOCATION:
SEQUENCE:0
SUMMARY:HAWESKO HOLDING SE Veröffentlichung Jahresfinanzbericht
UID:ea9e9258-7286-487d-9b78-bbfd3b393ef8
END:VEVENT
END:VCALENDAR
