BEGIN:VCALENDAR
VERSION:2.0
PRODID:-//ddaysoftware.com//NONSGML DDay.iCal 1.0//EN
BEGIN:VEVENT
DESCRIPTION:FLATEXDEGIRO SE https://flatexdegiro.com/de/investor-relations/
 reports-financial-calendar\n\n (https://www.finanznachrichten.de)
DTEND;VALUE=DATE:20250429
DTSTAMP:20260420T084233Z
DTSTART;VALUE=DATE:20250428
LOCATION:
SEQUENCE:0
SUMMARY:FLATEXDEGIRO SE https://flatexdegiro.com/de/investor-relations/repo
 rts-financial-calendar
UID:108b1888-1ea0-415f-9b77-32dad61895fa
END:VEVENT
END:VCALENDAR
