BEGIN:VCALENDAR
VERSION:2.0
PRODID:-//ddaysoftware.com//NONSGML DDay.iCal 1.0//EN
BEGIN:VEVENT
DESCRIPTION:MWB FAIRTRADE WERTPAPIERHANDELSBANK AG Corporate News zum endgü
 ltigen Jahresergebnis 2021\n\n (https://www.finanznachrichten.de)
DTEND;VALUE=DATE:20220531
DTSTAMP:20260419T125701Z
DTSTART;VALUE=DATE:20220530
LOCATION:
SEQUENCE:0
SUMMARY:MWB FAIRTRADE WERTPAPIERHANDELSBANK AG Corporate News zum endgültig
 en Jahresergebnis 2021
UID:7b100522-8fec-4ec4-8f94-317db95882ec
END:VEVENT
END:VCALENDAR
