BEGIN:VCALENDAR
VERSION:2.0
PRODID:-//ddaysoftware.com//NONSGML DDay.iCal 1.0//EN
BEGIN:VEVENT
DESCRIPTION:RATIONAL AG Finanzzahlen / Telefonkonferenz Halbjahr 2023\n\n (
 https://www.finanznachrichten.de)
DTEND;VALUE=DATE:20230804
DTSTAMP:20260420T055145Z
DTSTART;VALUE=DATE:20230803
LOCATION:
SEQUENCE:0
SUMMARY:RATIONAL AG Finanzzahlen / Telefonkonferenz Halbjahr 2023
UID:43bd86c1-2195-4898-b34e-558f528606cd
END:VEVENT
END:VCALENDAR
