BEGIN:VCALENDAR
VERSION:2.0
PRODID:-//ddaysoftware.com//NONSGML DDay.iCal 1.0//EN
BEGIN:VEVENT
DESCRIPTION:PROCREDIT HOLDING AG Hamburger Investorentage (HIT)\n\n (https:
 //www.finanznachrichten.de)
DTEND;VALUE=DATE:20260827
DTSTAMP:20260424T024141Z
DTSTART;VALUE=DATE:20260826
LOCATION:
SEQUENCE:0
SUMMARY:PROCREDIT HOLDING AG Hamburger Investorentage (HIT)
UID:db8dbae5-48fb-461d-8bc4-298bd6329492
END:VEVENT
END:VCALENDAR
