BEGIN:VCALENDAR
VERSION:2.0
PRODID:-//ddaysoftware.com//NONSGML DDay.iCal 1.0//EN
BEGIN:VEVENT
DESCRIPTION:YOUR FAMILY ENTERTAINMENT AG Veröffentlichung Jahresfinanzberic
 ht 2020\n\n (https://www.finanznachrichten.de)
DTEND;VALUE=DATE:20210430
DTSTAMP:20260424T175814Z
DTSTART;VALUE=DATE:20210429
LOCATION:
SEQUENCE:0
SUMMARY:YOUR FAMILY ENTERTAINMENT AG Veröffentlichung Jahresfinanzbericht 2
 020
UID:68560d21-f8b6-41dd-8b4c-f18897207913
END:VEVENT
END:VCALENDAR
