BEGIN:VCALENDAR
VERSION:2.0
PRODID:-//ddaysoftware.com//NONSGML DDay.iCal 1.0//EN
BEGIN:VEVENT
DESCRIPTION:SUSS MICROTEC SE Veröffentlichung Jahresfinanzbericht\n\n (http
 s://www.finanznachrichten.de)
DTEND;VALUE=DATE:20250328
DTSTAMP:20260422T233125Z
DTSTART;VALUE=DATE:20250327
LOCATION:
SEQUENCE:0
SUMMARY:SUSS MICROTEC SE Veröffentlichung Jahresfinanzbericht
UID:31979b0b-ad58-44bf-a3b0-cfe5ef8700f3
END:VEVENT
END:VCALENDAR
