BEGIN:VCALENDAR
VERSION:2.0
PRODID:-//ddaysoftware.com//NONSGML DDay.iCal 1.0//EN
BEGIN:VEVENT
DESCRIPTION:FIELMANN GROUP AG Hauptversammlung\n\n (https://www.finanznachr
 ichten.de)
DTEND;VALUE=DATE:20250711
DTSTAMP:20260420T031045Z
DTSTART;VALUE=DATE:20250710
LOCATION:
SEQUENCE:0
SUMMARY:FIELMANN GROUP AG Hauptversammlung
UID:736e3079-22ea-4e0c-ac06-3cfa45f6b2ed
END:VEVENT
END:VCALENDAR
