BEGIN:VCALENDAR
VERSION:2.0
PRODID:-//ddaysoftware.com//NONSGML DDay.iCal 1.0//EN
BEGIN:VEVENT
DESCRIPTION:DWS GROUP GMBH & CO KGAA Hauptversammlung 2025\n\n (https://www
 .finanznachrichten.de)
DTEND;VALUE=DATE:20250614
DTSTAMP:20260422T205621Z
DTSTART;VALUE=DATE:20250613
LOCATION:
SEQUENCE:0
SUMMARY:DWS GROUP GMBH & CO KGAA Hauptversammlung 2025
UID:34acafab-55a9-4635-8e91-d9b2f6128a81
END:VEVENT
END:VCALENDAR
