BEGIN:VCALENDAR
VERSION:2.0
PRODID:-//ddaysoftware.com//NONSGML DDay.iCal 1.0//EN
BEGIN:VEVENT
DESCRIPTION:BECHTLE AG Bilanzpressekonferenz\n\n (https://www.finanznachric
 hten.de)
DTEND;VALUE=DATE:20260321
DTSTAMP:20260421T113315Z
DTSTART;VALUE=DATE:20260320
LOCATION:
SEQUENCE:0
SUMMARY:BECHTLE AG Bilanzpressekonferenz
UID:cd00e819-a745-4bed-870d-58db04e36649
END:VEVENT
END:VCALENDAR
