BEGIN:VCALENDAR
VERSION:2.0
PRODID:-//ddaysoftware.com//NONSGML DDay.iCal 1.0//EN
BEGIN:VEVENT
DESCRIPTION:SYMRISE AG Zwischenmitteilung Januar – März 2025\n\n (https://w
 ww.finanznachrichten.de)
DTEND;VALUE=DATE:20250430
DTSTAMP:20260423T010157Z
DTSTART;VALUE=DATE:20250429
LOCATION:
SEQUENCE:0
SUMMARY:SYMRISE AG Zwischenmitteilung Januar – März 2025
UID:01df60e1-0eb9-437a-9f33-bc3e4f918741
END:VEVENT
END:VCALENDAR
