BEGIN:VCALENDAR
VERSION:2.0
PRODID:-//ddaysoftware.com//NONSGML DDay.iCal 1.0//EN
BEGIN:VEVENT
DESCRIPTION:BECHTLE AG Veröffentlichung Jahresfinanzbericht\n\n (https://ww
 w.finanznachrichten.de)
DTEND;VALUE=DATE:20260321
DTSTAMP:20260421T113327Z
DTSTART;VALUE=DATE:20260320
LOCATION:
SEQUENCE:0
SUMMARY:BECHTLE AG Veröffentlichung Jahresfinanzbericht
UID:ac739510-8d66-4a17-bccb-288c0c1643a7
END:VEVENT
END:VCALENDAR
