BEGIN:VCALENDAR
VERSION:2.0
PRODID:-//ddaysoftware.com//NONSGML DDay.iCal 1.0//EN
BEGIN:VEVENT
DESCRIPTION:MWB FAIRTRADE WERTPAPIERHANDELSBANK AG Veröffentlichung des end
 gültigen Jahresergebnisses 2023\n\n (https://www.finanznachrichten.de)
DTEND:20240523T235900
DTSTAMP:20260419T125702Z
DTSTART;VALUE=DATE:20240523
LOCATION:
SEQUENCE:0
SUMMARY:MWB FAIRTRADE WERTPAPIERHANDELSBANK AG Veröffentlichung des endgült
 igen Jahresergebnisses 2023
UID:b5ab6ac5-521b-41f9-8785-70e89afcc109
END:VEVENT
END:VCALENDAR
