BEGIN:VCALENDAR
VERSION:2.0
PRODID:-//ddaysoftware.com//NONSGML DDay.iCal 1.0//EN
BEGIN:VEVENT
DESCRIPTION:COVESTRO AG Veröffentlichung Halbjahresfinanzbericht\n\n (https
 ://www.finanznachrichten.de)
DTEND;VALUE=DATE:20240731
DTSTAMP:20260423T155103Z
DTSTART;VALUE=DATE:20240730
LOCATION:
SEQUENCE:0
SUMMARY:COVESTRO AG Veröffentlichung Halbjahresfinanzbericht
UID:bea92301-8e59-41ff-bae5-d7358779d5af
END:VEVENT
END:VCALENDAR
