BEGIN:VCALENDAR
VERSION:2.0
PRODID:-//ddaysoftware.com//NONSGML DDay.iCal 1.0//EN
BEGIN:VEVENT
DESCRIPTION:PROCREDIT HOLDING AG Veröffentlichung Quartalsmitteilung (Stich
 tag Q3)\n\n (https://www.finanznachrichten.de)
DTEND;VALUE=DATE:20251114
DTSTAMP:20260424T024141Z
DTSTART;VALUE=DATE:20251113
LOCATION:
SEQUENCE:0
SUMMARY:PROCREDIT HOLDING AG Veröffentlichung Quartalsmitteilung (Stichtag 
 Q3)
UID:25772a2b-577a-44bd-9fd2-c1dd9fe0ad84
END:VEVENT
END:VCALENDAR
