BEGIN:VCALENDAR
VERSION:2.0
PRODID:-//ddaysoftware.com//NONSGML DDay.iCal 1.0//EN
BEGIN:VEVENT
DESCRIPTION:FIELMANN GROUP AG Veröffentlichung Jahresfinanzbericht\n\n (htt
 ps://www.finanznachrichten.de)
DTEND;VALUE=DATE:20250501
DTSTAMP:20260422T023218Z
DTSTART;VALUE=DATE:20250430
LOCATION:
SEQUENCE:0
SUMMARY:FIELMANN GROUP AG Veröffentlichung Jahresfinanzbericht
UID:a42c73d5-3f6b-40ce-8cf7-fd704864cbff
END:VEVENT
END:VCALENDAR
