BEGIN:VCALENDAR
VERSION:2.0
PRODID:-//ddaysoftware.com//NONSGML DDay.iCal 1.0//EN
BEGIN:VEVENT
DESCRIPTION:CENIT AG Veröffentlichung Halbjahresfinanzbericht\n\n (https://
 www.finanznachrichten.de)
DTEND;VALUE=DATE:20250802
DTSTAMP:20260425T171058Z
DTSTART;VALUE=DATE:20250801
LOCATION:
SEQUENCE:0
SUMMARY:CENIT AG Veröffentlichung Halbjahresfinanzbericht
UID:65cbbaec-858e-411f-aeb9-35214718836d
END:VEVENT
END:VCALENDAR
