BEGIN:VCALENDAR
VERSION:2.0
PRODID:-//ddaysoftware.com//NONSGML DDay.iCal 1.0//EN
BEGIN:VEVENT
DESCRIPTION:DEUTSCHE TELEKOM AG Veröffentlichung Quartalsfinanzbericht (Sti
 chtag Q3)\n\n (https://www.finanznachrichten.de)
DTEND;VALUE=DATE:20241115
DTSTAMP:20260419T125701Z
DTSTART;VALUE=DATE:20241114
LOCATION:
SEQUENCE:0
SUMMARY:DEUTSCHE TELEKOM AG Veröffentlichung Quartalsfinanzbericht (Stichta
 g Q3)
UID:e4a47739-ad87-4e0f-b32b-a9861c458cf8
END:VEVENT
END:VCALENDAR
