BEGIN:VCALENDAR
VERSION:2.0
PRODID:-//ddaysoftware.com//NONSGML DDay.iCal 1.0//EN
BEGIN:VEVENT
DESCRIPTION:LPKF LASER & ELECTRONICS SE Veröffentlichung Halbjahresfinanzbe
 richt\n\n (https://www.finanznachrichten.de)
DTEND;VALUE=DATE:20250725
DTSTAMP:20260423T025459Z
DTSTART;VALUE=DATE:20250724
LOCATION:
SEQUENCE:0
SUMMARY:LPKF LASER & ELECTRONICS SE Veröffentlichung Halbjahresfinanzberich
 t
UID:0a1d566d-9d55-4a47-ad09-674b31db69a0
END:VEVENT
END:VCALENDAR
