BEGIN:VCALENDAR
VERSION:2.0
PRODID:-//ddaysoftware.com//NONSGML DDay.iCal 1.0//EN
BEGIN:VEVENT
DESCRIPTION:FIELMANN GROUP AG Dividendenzahlung\n\n (https://www.finanznach
 richten.de)
DTEND;VALUE=DATE:20250716
DTSTAMP:20260422T023218Z
DTSTART;VALUE=DATE:20250715
LOCATION:
SEQUENCE:0
SUMMARY:FIELMANN GROUP AG Dividendenzahlung
UID:4a72fbd8-75cb-4f5e-acc9-7fbd90e62ad6
END:VEVENT
END:VCALENDAR
