BEGIN:VCALENDAR
VERSION:2.0
PRODID:-//ddaysoftware.com//NONSGML DDay.iCal 1.0//EN
BEGIN:VEVENT
DESCRIPTION:RATIONAL AG Finanzzahlen / Bilanzpressekonferenz / Telefonkonfe
 renz zum Geschäftsjahr 2024\n\n (https://www.finanznachrichten.de)
DTEND;VALUE=DATE:20250328
DTSTAMP:20260420T055146Z
DTSTART;VALUE=DATE:20250327
LOCATION:
SEQUENCE:0
SUMMARY:RATIONAL AG Finanzzahlen / Bilanzpressekonferenz / Telefonkonferenz
  zum Geschäftsjahr 2024
UID:f478935b-3009-4254-86f9-db2adfba86b8
END:VEVENT
END:VCALENDAR
