BEGIN:VCALENDAR
VERSION:2.0
PRODID:-//ddaysoftware.com//NONSGML DDay.iCal 1.0//EN
BEGIN:VEVENT
DESCRIPTION:BASLER AG Veröffentlichung Quartalsfinanzbericht (Stichtag Q1)\
 n\n (https://www.finanznachrichten.de)
DTEND;VALUE=DATE:20250509
DTSTAMP:20260420T105501Z
DTSTART;VALUE=DATE:20250508
LOCATION:
SEQUENCE:0
SUMMARY:BASLER AG Veröffentlichung Quartalsfinanzbericht (Stichtag Q1)
UID:5b6b44ce-9553-498c-94c6-5d52ae9cb60a
END:VEVENT
END:VCALENDAR
