BEGIN:VCALENDAR
VERSION:2.0
PRODID:-//ddaysoftware.com//NONSGML DDay.iCal 1.0//EN
BEGIN:VEVENT
DESCRIPTION:ATOSS SOFTWARE SE Pressemeldung zur Bekanntgabe der vorläufigen
  Ergebnisse 2025\n\n (https://www.finanznachrichten.de)
DTEND;VALUE=DATE:20260131
DTSTAMP:20260422T092123Z
DTSTART;VALUE=DATE:20260130
LOCATION:
SEQUENCE:0
SUMMARY:ATOSS SOFTWARE SE Pressemeldung zur Bekanntgabe der vorläufigen Erg
 ebnisse 2025
UID:6d7b0b0d-f873-4931-94e5-409d6abe9113
END:VEVENT
END:VCALENDAR
