BEGIN:VCALENDAR
VERSION:2.0
PRODID:-//ddaysoftware.com//NONSGML DDay.iCal 1.0//EN
BEGIN:VEVENT
DESCRIPTION:COVESTRO AG Veröffentlichung Halbjahresfinanzbericht\n\n (https
 ://www.finanznachrichten.de)
DTEND;VALUE=DATE:20250801
DTSTAMP:20260423T155103Z
DTSTART;VALUE=DATE:20250731
LOCATION:
SEQUENCE:0
SUMMARY:COVESTRO AG Veröffentlichung Halbjahresfinanzbericht
UID:1d31ad47-3f1e-4bde-9f0e-cdb78326c99d
END:VEVENT
END:VCALENDAR
