BEGIN:VCALENDAR
VERSION:2.0
PRODID:-//ddaysoftware.com//NONSGML DDay.iCal 1.0//EN
BEGIN:VEVENT
DESCRIPTION:NORDEX SE Conference Call: 1. Quartal 2026\n\n (https://www.fin
 anznachrichten.de)
DTEND:20260427T235900
DTSTAMP:20260422T172720Z
DTSTART:20260427T150000
LOCATION:
SEQUENCE:0
SUMMARY:NORDEX SE Conference Call: 1. Quartal 2026
UID:285abba6-bf94-4ad7-ace5-5d1ced9edab4
END:VEVENT
END:VCALENDAR
