BEGIN:VCALENDAR
VERSION:2.0
PRODID:-//ddaysoftware.com//NONSGML DDay.iCal 1.0//EN
BEGIN:VEVENT
DESCRIPTION:BECHTLE AG Veröffentlichung Halbjahresfinanzbericht\n\n (https:
 //www.finanznachrichten.de)
DTEND;VALUE=DATE:20250809
DTSTAMP:20260421T113326Z
DTSTART;VALUE=DATE:20250808
LOCATION:
SEQUENCE:0
SUMMARY:BECHTLE AG Veröffentlichung Halbjahresfinanzbericht
UID:c4c1251f-3fb3-4dbe-9d55-2578753ed911
END:VEVENT
END:VCALENDAR
