BEGIN:VCALENDAR
VERSION:2.0
PRODID:-//ddaysoftware.com//NONSGML DDay.iCal 1.0//EN
BEGIN:VEVENT
DESCRIPTION:FLATEXDEGIRO SE https://flatexdegiro.com/de/investor-relations/
 reports-financial-calendar\n\n (https://www.finanznachrichten.de)
DTEND;VALUE=DATE:20251022
DTSTAMP:20260420T084233Z
DTSTART;VALUE=DATE:20251021
LOCATION:
SEQUENCE:0
SUMMARY:FLATEXDEGIRO SE https://flatexdegiro.com/de/investor-relations/repo
 rts-financial-calendar
UID:b066cbb3-6c1e-4a60-913f-b9f4bb1af387
END:VEVENT
END:VCALENDAR
