BEGIN:VCALENDAR
VERSION:2.0
PRODID:-//ddaysoftware.com//NONSGML DDay.iCal 1.0//EN
BEGIN:VEVENT
DESCRIPTION:KION GROUP AG Veröffentlichung Jahresfinanzbericht\n\n (https:/
 /www.finanznachrichten.de)
DTEND;VALUE=DATE:20260227
DTSTAMP:20260420T181421Z
DTSTART;VALUE=DATE:20260226
LOCATION:
SEQUENCE:0
SUMMARY:KION GROUP AG Veröffentlichung Jahresfinanzbericht
UID:f0782bbb-c551-4fe7-adb1-134163001828
END:VEVENT
END:VCALENDAR
