BEGIN:VCALENDAR
VERSION:2.0
PRODID:-//ddaysoftware.com//NONSGML DDay.iCal 1.0//EN
BEGIN:VEVENT
DESCRIPTION:SILTRONIC AG Pressemeldung zur Quartalsmitteilung (Stichtag Q3)
 \n\n (https://www.finanznachrichten.de)
DTEND;VALUE=DATE:20251029
DTSTAMP:20260421T030334Z
DTSTART;VALUE=DATE:20251028
LOCATION:
SEQUENCE:0
SUMMARY:SILTRONIC AG Pressemeldung zur Quartalsmitteilung (Stichtag Q3)
UID:9e917492-f54c-4bf0-b2cc-0ccb62445943
END:VEVENT
END:VCALENDAR
