BEGIN:VCALENDAR
VERSION:2.0
PRODID:-//ddaysoftware.com//NONSGML DDay.iCal 1.0//EN
BEGIN:VEVENT
DESCRIPTION:DWS GROUP GMBH & CO KGAA  Vorläufiges Jahresergebnis für das Ge
 schäftsjahr 2025 mit Investoren- und Analysten-Telefonkonferenz\n\n (https
 ://www.finanznachrichten.de)
DTEND;VALUE=DATE:20260130
DTSTAMP:20260422T205621Z
DTSTART;VALUE=DATE:20260129
LOCATION:
SEQUENCE:0
SUMMARY:DWS GROUP GMBH & CO KGAA  Vorläufiges Jahresergebnis für das Geschä
 ftsjahr 2025 mit Investoren- und Analysten-Telefonkonferenz
UID:e0728c0b-5752-454c-ac42-9c8bc0318fae
END:VEVENT
END:VCALENDAR
