BEGIN:VCALENDAR
VERSION:2.0
PRODID:-//ddaysoftware.com//NONSGML DDay.iCal 1.0//EN
BEGIN:VEVENT
DESCRIPTION:BASLER AG Hauptversammlung\n\n (https://www.finanznachrichten.d
 e)
DTEND;VALUE=DATE:20250524
DTSTAMP:20260420T105501Z
DTSTART;VALUE=DATE:20250523
LOCATION:
SEQUENCE:0
SUMMARY:BASLER AG Hauptversammlung
UID:174e9aa3-78ae-447a-a25b-69cee94afdad
END:VEVENT
END:VCALENDAR
