BEGIN:VCALENDAR
VERSION:2.0
PRODID:-//ddaysoftware.com//NONSGML DDay.iCal 1.0//EN
BEGIN:VEVENT
DESCRIPTION:YOUR FAMILY ENTERTAINMENT AG Ordentliche Hauptversammlung 2024\
 n\n (https://www.finanznachrichten.de)
DTEND:20240625T235900
DTSTAMP:20260424T175813Z
DTSTART;VALUE=DATE:20240625
LOCATION:
SEQUENCE:0
SUMMARY:YOUR FAMILY ENTERTAINMENT AG Ordentliche Hauptversammlung 2024
UID:31dbcde9-4240-4006-8bf1-9a8c4af27ad8
END:VEVENT
END:VCALENDAR
