BEGIN:VCALENDAR
VERSION:2.0
PRODID:-//ddaysoftware.com//NONSGML DDay.iCal 1.0//EN
BEGIN:VEVENT
DESCRIPTION:INTERSHOP COMMUNICATIONS AG Veröffentlichung Quartalsmitteilung
  (Stichtag Q1)\n\n (https://www.finanznachrichten.de)
DTEND;VALUE=DATE:20260423
DTSTAMP:20260422T001751Z
DTSTART;VALUE=DATE:20260422
LOCATION:
SEQUENCE:0
SUMMARY:INTERSHOP COMMUNICATIONS AG Veröffentlichung Quartalsmitteilung (St
 ichtag Q1)
UID:dcb78bf7-1fd1-4287-954a-0b62ff750a02
END:VEVENT
END:VCALENDAR
