BEGIN:VCALENDAR
VERSION:2.0
PRODID:-//ddaysoftware.com//NONSGML DDay.iCal 1.0//EN
BEGIN:VEVENT
DESCRIPTION:HOMETOGO SE AIRTIME Platform Konferenz\n\n (https://www.finanzn
 achrichten.de)
DTEND:20260428T235900
DTSTAMP:20260422T172720Z
DTSTART;VALUE=DATE:20260428
LOCATION:
SEQUENCE:0
SUMMARY:HOMETOGO SE AIRTIME Platform Konferenz
UID:68bb3c89-4670-4750-9100-75dc6f95fff5
END:VEVENT
END:VCALENDAR
