BEGIN:VCALENDAR
VERSION:2.0
PRODID:-//ddaysoftware.com//NONSGML DDay.iCal 1.0//EN
BEGIN:VEVENT
DESCRIPTION:DEUTSCHE TELEKOM AG Veröffentlichung Jahresfinanzbericht\n\n (h
 ttps://www.finanznachrichten.de)
DTEND;VALUE=DATE:20260227
DTSTAMP:20260419T125701Z
DTSTART;VALUE=DATE:20260226
LOCATION:
SEQUENCE:0
SUMMARY:DEUTSCHE TELEKOM AG Veröffentlichung Jahresfinanzbericht
UID:2ac44a7a-7f8c-4d84-876f-c5c5c08674ee
END:VEVENT
END:VCALENDAR
