BEGIN:VCALENDAR
VERSION:2.0
PRODID:-//ddaysoftware.com//NONSGML DDay.iCal 1.0//EN
BEGIN:VEVENT
DESCRIPTION:DEUTSCHE BOERSE AG Analysten- und Investorenkonferenz Q3/2025\n
 \n (https://www.finanznachrichten.de)
DTEND;VALUE=DATE:20251029
DTSTAMP:20260423T155141Z
DTSTART;VALUE=DATE:20251028
LOCATION:
SEQUENCE:0
SUMMARY:DEUTSCHE BOERSE AG Analysten- und Investorenkonferenz Q3/2025
UID:c7e892eb-9e21-4021-af7d-a9063edde025
END:VEVENT
END:VCALENDAR
