BEGIN:VCALENDAR
VERSION:2.0
PRODID:-//ddaysoftware.com//NONSGML DDay.iCal 1.0//EN
BEGIN:VEVENT
DESCRIPTION:DWS GROUP GMBH & CO KGAA Q3 2025 Finanzergebnisse\n\n (https://
 www.finanznachrichten.de)
DTEND;VALUE=DATE:20251030
DTSTAMP:20260422T205621Z
DTSTART;VALUE=DATE:20251029
LOCATION:
SEQUENCE:0
SUMMARY:DWS GROUP GMBH & CO KGAA Q3 2025 Finanzergebnisse
UID:e7ad6096-272a-422f-9f3c-5cbb67946126
END:VEVENT
END:VCALENDAR
