BEGIN:VCALENDAR
VERSION:2.0
PRODID:-//ddaysoftware.com//NONSGML DDay.iCal 1.0//EN
BEGIN:VEVENT
DESCRIPTION:MWB FAIRTRADE WERTPAPIERHANDELSBANK AG m:access Jubiläumskonfer
 enz an der Börse München\n\n (https://www.finanznachrichten.de)
DTEND:20250702T235500
DTSTAMP:20260419T125702Z
DTSTART;VALUE=DATE:20250702
LOCATION:
SEQUENCE:0
SUMMARY:MWB FAIRTRADE WERTPAPIERHANDELSBANK AG m:access Jubiläumskonferenz 
 an der Börse München
UID:fbcb7ca6-a872-4da7-9d16-252b2f9b866f
END:VEVENT
END:VCALENDAR
