BEGIN:VCALENDAR
VERSION:2.0
PRODID:-//ddaysoftware.com//NONSGML DDay.iCal 1.0//EN
BEGIN:VEVENT
DESCRIPTION:ECKERT & ZIEGLER SE Veröffentlichung Quartalsfinanzbericht (Sti
 chtag Q1)\n\n (https://www.finanznachrichten.de)
DTEND;VALUE=DATE:20250514
DTSTAMP:20260420T003409Z
DTSTART;VALUE=DATE:20250513
LOCATION:
SEQUENCE:0
SUMMARY:ECKERT & ZIEGLER SE Veröffentlichung Quartalsfinanzbericht (Stichta
 g Q1)
UID:0af17b28-4fe7-4e09-b2b7-a8dd7f13537b
END:VEVENT
END:VCALENDAR
