BEGIN:VCALENDAR
VERSION:2.0
PRODID:-//ddaysoftware.com//NONSGML DDay.iCal 1.0//EN
BEGIN:VEVENT
DESCRIPTION:DWS GROUP GMBH & CO KGAA Q1 2025 Finanzergebnisse\n\n (https://
 www.finanznachrichten.de)
DTEND;VALUE=DATE:20250430
DTSTAMP:20260422T205621Z
DTSTART;VALUE=DATE:20250429
LOCATION:
SEQUENCE:0
SUMMARY:DWS GROUP GMBH & CO KGAA Q1 2025 Finanzergebnisse
UID:894d90ef-727b-4c51-8784-b4baea3677cb
END:VEVENT
END:VCALENDAR
