BEGIN:VCALENDAR
VERSION:2.0
PRODID:-//ddaysoftware.com//NONSGML DDay.iCal 1.0//EN
BEGIN:VEVENT
DESCRIPTION:DEUTSCHE TELEKOM AG Pressemeldung zum Halbjahresfinanzbericht\n
 \n (https://www.finanznachrichten.de)
DTEND;VALUE=DATE:20250808
DTSTAMP:20260419T125701Z
DTSTART;VALUE=DATE:20250807
LOCATION:
SEQUENCE:0
SUMMARY:DEUTSCHE TELEKOM AG Pressemeldung zum Halbjahresfinanzbericht
UID:291f2b0b-2927-46a9-9665-bec40beabb0e
END:VEVENT
END:VCALENDAR
