BEGIN:VCALENDAR
VERSION:2.0
PRODID:-//ddaysoftware.com//NONSGML DDay.iCal 1.0//EN
BEGIN:VEVENT
DESCRIPTION:DWS GROUP GMBH & CO KGAA Halbjahresbericht 2025 \n\n (https://w
 ww.finanznachrichten.de)
DTEND;VALUE=DATE:20250725
DTSTAMP:20260422T205647Z
DTSTART;VALUE=DATE:20250724
LOCATION:
SEQUENCE:0
SUMMARY:DWS GROUP GMBH & CO KGAA Halbjahresbericht 2025 
UID:86464dcd-18f3-4ad5-a8cf-61040bf01de8
END:VEVENT
END:VCALENDAR
