BEGIN:VCALENDAR
VERSION:2.0
PRODID:-//ddaysoftware.com//NONSGML DDay.iCal 1.0//EN
BEGIN:VEVENT
DESCRIPTION:HANNOVER RUECK SE Zwischenmitteilung zum 31. März 2026\n\n (htt
 ps://www.finanznachrichten.de)
DTEND;VALUE=DATE:20260512
DTSTAMP:20260423T234941Z
DTSTART;VALUE=DATE:20260511
LOCATION:
SEQUENCE:0
SUMMARY:HANNOVER RUECK SE Zwischenmitteilung zum 31. März 2026
UID:2c9bf5e9-8e7e-46a4-aa99-47f2580fbbfb
END:VEVENT
END:VCALENDAR
